1.00000000000000
0.00000000000000
0.00000000000000
-1.00000000000000
653316.50000000
1582635.50000000
