1.00000000000000
0.00000000000000
0.00000000000000
-1.00000000000000
645381.50000000
1582887.50000000
