1.00000000000000
0.00000000000000
0.00000000000000
-1.00000000000000
661252.50000000
1582386.50000000
