1.00000000000000
0.00000000000000
0.00000000000000
-1.00000000000000
653676.50000000
1594028.50000000
