1.00000000000000
0.00000000000000
0.00000000000000
-1.00000000000000
645745.50000000
1594280.50000000
