1.00000000000000
0.00000000000000
0.00000000000000
-1.00000000000000
654036.50000000
1605422.50000000
