1.00000000000000
0.00000000000000
0.00000000000000
-1.00000000000000
646109.50000000
1605674.50000000
