1.00000000000000
0.00000000000000
0.00000000000000
-1.00000000000000
661608.50000000
1593779.50000000
