1.00000000000000
0.00000000000000
0.00000000000000
-1.00000000000000
661963.50000000
1605173.50000000
