1.00000000000000
0.00000000000000
0.00000000000000
-1.00000000000000
621575.50000000
1583661.50000000
