1.00000000000000
0.00000000000000
0.00000000000000
-1.00000000000000
613640.50000000
1583926.50000000
