1.00000000000000
0.00000000000000
0.00000000000000
-1.00000000000000
637445.50000000
1583142.50000000
