1.00000000000000
0.00000000000000
0.00000000000000
-1.00000000000000
629510.50000000
1583400.50000000
