1.00000000000000
0.00000000000000
0.00000000000000
-1.00000000000000
621952.50000000
1595054.50000000
