1.00000000000000
0.00000000000000
0.00000000000000
-1.00000000000000
614021.50000000
1595318.50000000
