1.00000000000000
0.00000000000000
0.00000000000000
-1.00000000000000
622330.50000000
1606448.50000000
