1.00000000000000
0.00000000000000
0.00000000000000
-1.00000000000000
614403.50000000
1606712.50000000
