1.00000000000000
0.00000000000000
0.00000000000000
-1.00000000000000
637814.50000000
1594535.50000000
