1.00000000000000
0.00000000000000
0.00000000000000
-1.00000000000000
629883.50000000
1594793.50000000
