1.00000000000000
0.00000000000000
0.00000000000000
-1.00000000000000
638183.50000000
1605929.50000000
