1.00000000000000
0.00000000000000
0.00000000000000
-1.00000000000000
630256.50000000
1606187.50000000
