1.00000000000000
0.00000000000000
0.00000000000000
-1.00000000000000
590624.50000000
1607521.50000000
