1.00000000000000
0.00000000000000
0.00000000000000
-1.00000000000000
582698.50000000
1607797.50000000
