1.00000000000000
0.00000000000000
0.00000000000000
-1.00000000000000
606477.50000000
1606978.50000000
