1.00000000000000
0.00000000000000
0.00000000000000
-1.00000000000000
598551.50000000
1607248.50000000
