1.00000000000000
0.00000000000000
0.00000000000000
-1.00000000000000
574773.50000000
1608076.50000000
