1.00000000000000
0.00000000000000
0.00000000000000
-1.00000000000000
566847.50000000
1608358.50000000
