1.00000000000000
0.00000000000000
0.00000000000000
-1.00000000000000
654396.50000000
1616816.50000000
