1.00000000000000
0.00000000000000
0.00000000000000
-1.00000000000000
646474.50000000
1617068.50000000
