1.00000000000000
0.00000000000000
0.00000000000000
-1.00000000000000
654756.50000000
1628210.50000000
