1.00000000000000
0.00000000000000
0.00000000000000
-1.00000000000000
646838.50000000
1628462.50000000
