1.00000000000000
0.00000000000000
0.00000000000000
-1.00000000000000
662319.50000000
1616567.50000000
