1.00000000000000
0.00000000000000
0.00000000000000
-1.00000000000000
622707.50000000
1617841.50000000
