1.00000000000000
0.00000000000000
0.00000000000000
-1.00000000000000
614785.50000000
1618105.50000000
