1.00000000000000
0.00000000000000
0.00000000000000
-1.00000000000000
623084.50000000
1629235.50000000
