1.00000000000000
0.00000000000000
0.00000000000000
-1.00000000000000
638551.50000000
1617323.50000000
