1.00000000000000
0.00000000000000
0.00000000000000
-1.00000000000000
630629.50000000
1617580.50000000
