1.00000000000000
0.00000000000000
0.00000000000000
-1.00000000000000
638920.50000000
1628717.50000000
