1.00000000000000
0.00000000000000
0.00000000000000
-1.00000000000000
631002.50000000
1628974.50000000
