1.00000000000000
0.00000000000000
0.00000000000000
-1.00000000000000
591019.50000000
1618914.50000000
