1.00000000000000
0.00000000000000
0.00000000000000
-1.00000000000000
583098.50000000
1619190.50000000
