1.00000000000000
0.00000000000000
0.00000000000000
-1.00000000000000
606863.50000000
1618372.50000000
