1.00000000000000
0.00000000000000
0.00000000000000
-1.00000000000000
598941.50000000
1618641.50000000
