1.00000000000000
0.00000000000000
0.00000000000000
-1.00000000000000
575176.50000000
1619469.50000000
