1.00000000000000
0.00000000000000
0.00000000000000
-1.00000000000000
567254.50000000
1619751.50000000
