1.00000000000000
0.00000000000000
0.00000000000000
-1.00000000000000
575579.50000000
1630862.50000000
