1.00000000000000
0.00000000000000
0.00000000000000
-1.00000000000000
567662.50000000
1631144.50000000
