1.00000000000000
0.00000000000000
0.00000000000000
-1.00000000000000
685402.50000000
1593050.50000000
