1.00000000000000
0.00000000000000
0.00000000000000
-1.00000000000000
685745.50000000
1604445.50000000
