1.00000000000000
0.00000000000000
0.00000000000000
-1.00000000000000
693333.50000000
1592813.50000000
